BEGIN:VCALENDAR
VERSION:2.0
PRODID:-//LIFE IN COMPRESSION – THE BLOG - ECPv6.15.20//NONSGML v1.0//EN
CALSCALE:GREGORIAN
METHOD:PUBLISH
X-WR-CALNAME:LIFE IN COMPRESSION – THE BLOG
X-ORIGINAL-URL:https://blog.powersprotte.com
X-WR-CALDESC:Veranstaltungen für LIFE IN COMPRESSION – THE BLOG
REFRESH-INTERVAL;VALUE=DURATION:PT1H
X-Robots-Tag:noindex
X-PUBLISHED-TTL:PT1H
BEGIN:VTIMEZONE
TZID:UTC
BEGIN:STANDARD
TZOFFSETFROM:+0000
TZOFFSETTO:+0000
TZNAME:UTC
DTSTART:20250101T000000
END:STANDARD
END:VTIMEZONE
BEGIN:VEVENT
DTSTART;TZID=UTC:20260414T180000
DTEND;TZID=UTC:20260414T203000
DTSTAMP:20260421T162529
CREATED:20260115T113437Z
LAST-MODIFIED:20260401T124535Z
UID:10000060-1776189600-1776198600@blog.powersprotte.com
SUMMARY:Event-Lesung "Lipödem\, jetzt rede ich!" in Mannheim
DESCRIPTION:Nach dem großen Erfolg meiner Mutmach-Lesungen geht nun meine neue Tour an den Start\, mit meinem zweiten Buch „Emotional frei mit Lipödem“ (ET: 16.02.26). Diese Lesung geht für mich tiefer als alles\, was ich bisher gemacht habe. Therapeutisch fundiert (dank meiner Co-Autorin\, der Ergotherapeutin Marianne Jouanneaux) möchte ich die mentalen Ketten lösen\, die Ängste\, Sorgen und Zweifel sichtbar machen\, die im Selbstmanagement oft lähmen und klein halten und zeigen\, wie man da tatsächlich rauskommen kann. Ich erkläre\, warum eine gesundende Psyche das Fundament jeder erfolgreichen Therapie ist und teile meine wichtigsten Erkenntnisse und Erfahrungen rund um Selbstmanagement\, Ernährung und auch die Liposuktion. Mit exklusiven Einblicken in mein neues Buch und den beliebten Lipödem-Mutmacher-Karten erwartet die Teilnehmerinnen ein Abend\, der verändern kann\, wie sie sich selbst und ihr Lipödem sehen. \nMit freundlicher Unterstützung von medi.
URL:https://blog.powersprotte.com/event/event-lesung-lipoedem-jetzt-rede-ich-in-mannheim/
LOCATION:Mayer & Rexing\, M7 16-17\, Mannheim\, Rheinland-Pfalz\, 68161\, Germany
CATEGORIES:Event-Lesung "Lipödem, jetzt rede ich!"
ATTACH;FMTTYPE=image/png:https://blog.powersprotte.com/wp-content/uploads/2026/03/power-sprotte-Lesung_Lipoedem-jedetzt-rede-ich-2026-27.png
GEO:49.4861656;8.4702616
X-APPLE-STRUCTURED-LOCATION;VALUE=URI;X-ADDRESS=Mayer & Rexing M7 16-17 Mannheim Rheinland-Pfalz 68161 Germany;X-APPLE-RADIUS=500;X-TITLE=M7 16-17:geo:8.4702616,49.4861656
END:VEVENT
END:VCALENDAR